BEGIN:VCALENDAR
VERSION:2.0
PRODID:-//Dunchurch Parish Council//Meeting Calendar//EN
CALSCALE:GREGORIAN
METHOD:PUBLISH
BEGIN:VEVENT
UID:71568-20261012@dunchurchparishcouncil.gov.uk
DTSTAMP:20260421T105017Z
DTSTART;VALUE=DATE:20261012
DTEND;VALUE=DATE:20261013
SUMMARY:Council meeting &#8211\\; 12th October 2026
DESCRIPTION:Full Council Meeting\nView details: https://dunchurchparishcouncil.gov.uk/meetings/council-meeting-12th-october-2026/
URL:https://dunchurchparishcouncil.gov.uk/meetings/council-meeting-12th-october-2026/
END:VEVENT
END:VCALENDAR
