BEGIN:VCALENDAR
VERSION:2.0
PRODID:-//Dunchurch Parish Council//Meeting Calendar//EN
CALSCALE:GREGORIAN
METHOD:PUBLISH
BEGIN:VEVENT
UID:71567-20260914@dunchurchparishcouncil.gov.uk
DTSTAMP:20260421T090342Z
DTSTART;VALUE=DATE:20260914
DTEND;VALUE=DATE:20260915
SUMMARY:Council meeting &#8211\\; 14th September 2026
DESCRIPTION:Full Council Meeting\nView details: https://dunchurchparishcouncil.gov.uk/meetings/council-meeting-14th-september-2026/
URL:https://dunchurchparishcouncil.gov.uk/meetings/council-meeting-14th-september-2026/
END:VEVENT
END:VCALENDAR
