BEGIN:VCALENDAR
VERSION:2.0
PRODID:-//Dunchurch Parish Council//Meeting Calendar//EN
CALSCALE:GREGORIAN
METHOD:PUBLISH
BEGIN:VEVENT
UID:71566-20260713@dunchurchparishcouncil.gov.uk
DTSTAMP:20260421T071302Z
DTSTART;VALUE=DATE:20260713
DTEND;VALUE=DATE:20260714
SUMMARY:Council Meeting &#8211\\; 13th July 2026
DESCRIPTION:Full Council Meeting\nView details: https://dunchurchparishcouncil.gov.uk/meetings/council-meeting-13th-july-2026/
URL:https://dunchurchparishcouncil.gov.uk/meetings/council-meeting-13th-july-2026/
END:VEVENT
END:VCALENDAR
