BEGIN:VCALENDAR
VERSION:2.0
PRODID:-//Dunchurch Parish Council//Meeting Calendar//EN
CALSCALE:GREGORIAN
METHOD:PUBLISH
BEGIN:VEVENT
UID:71565-20260608@dunchurchparishcouncil.gov.uk
DTSTAMP:20260421T050950Z
DTSTART;VALUE=DATE:20260608
DTEND;VALUE=DATE:20260609
SUMMARY:Council Meeting &#8211\\; 8th June 2026
DESCRIPTION:Full Council Meeting\nView details: https://dunchurchparishcouncil.gov.uk/meetings/council-meeting-8th-june-2026/
URL:https://dunchurchparishcouncil.gov.uk/meetings/council-meeting-8th-june-2026/
END:VEVENT
END:VCALENDAR
