BEGIN:VCALENDAR
VERSION:2.0
PRODID:-//Dunchurch Parish Council//Meeting Calendar//EN
CALSCALE:GREGORIAN
METHOD:PUBLISH
BEGIN:VEVENT
UID:71564-20260511@dunchurchparishcouncil.gov.uk
DTSTAMP:20260421T051836Z
DTSTART;VALUE=DATE:20260511
DTEND;VALUE=DATE:20260512
SUMMARY:Council meeting &#8211\\; 11th May 2026
DESCRIPTION:Full Council Meeting\nView details: https://dunchurchparishcouncil.gov.uk/meetings/council-meeting-11th-may/
URL:https://dunchurchparishcouncil.gov.uk/meetings/council-meeting-11th-may/
END:VEVENT
END:VCALENDAR
