BEGIN:VCALENDAR
VERSION:2.0
PRODID:-//Dunchurch Parish Council//Meeting Calendar//EN
CALSCALE:GREGORIAN
METHOD:PUBLISH
BEGIN:VEVENT
UID:71474-20260112@dunchurchparishcouncil.gov.uk
DTSTAMP:20260423T195624Z
DTSTART;VALUE=DATE:20260112
DTEND;VALUE=DATE:20260113
SUMMARY:Council Meeting &#8211\\; 12th January 2026
DESCRIPTION:Full Council Meeting\nView details: https://dunchurchparishcouncil.gov.uk/meetings/council-meeting-12th-january/
URL:https://dunchurchparishcouncil.gov.uk/meetings/council-meeting-12th-january/
END:VEVENT
END:VCALENDAR
