BEGIN:VCALENDAR
VERSION:2.0
PRODID:-//Dunchurch Parish Council//Meeting Calendar//EN
CALSCALE:GREGORIAN
METHOD:PUBLISH
BEGIN:VEVENT
UID:71055-20250303@dunchurchparishcouncil.gov.uk
DTSTAMP:20260423T190056Z
DTSTART;VALUE=DATE:20250303
DTEND;VALUE=DATE:20250304
SUMMARY:Annual Parish Meeting 2025
DESCRIPTION:Annual Parish Meeting\nView details: https://dunchurchparishcouncil.gov.uk/meetings/annual-parish-meeting-2025/
URL:https://dunchurchparishcouncil.gov.uk/meetings/annual-parish-meeting-2025/
END:VEVENT
END:VCALENDAR
