BEGIN:VCALENDAR
VERSION:2.0
PRODID:-//Dunchurch Parish Council//Meeting Calendar//EN
CALSCALE:GREGORIAN
METHOD:PUBLISH
BEGIN:VEVENT
UID:70704-20240530@dunchurchparishcouncil.gov.uk
DTSTAMP:20260423T202923Z
DTSTART;VALUE=DATE:20240530
DTEND;VALUE=DATE:20240531
SUMMARY:Annual Parish Assembly 2024
DESCRIPTION:Annual Parish Meeting\nView details: https://dunchurchparishcouncil.gov.uk/meetings/annual-parish-assembly/
URL:https://dunchurchparishcouncil.gov.uk/meetings/annual-parish-assembly/
END:VEVENT
END:VCALENDAR
